BEGIN:VCALENDAR
VERSION:2.0
PRODID:icalendar-ruby
CALSCALE:GREGORIAN
METHOD:PUBLISH
BEGIN:VEVENT
DTSTAMP:20260420T105640Z
UID:238-313411@plcmenomonie.com
DTSTART:20260506T140000Z
DTEND:20260506T153000Z
CLASS:PUBLIC
CREATED:20260323T131432
DESCRIPTION:
LAST-MODIFIED:20260323T131432
LOCATION:
SUMMARY:Adult Bible Study
URL;VALUE=URI:https://plcmenomonie.org/events/adult-bible-study/2026-05-06
END:VEVENT
END:VCALENDAR
